BEGIN:VCALENDAR
VERSION:2.0
PRODID:-//Recovery Café Valley of the Sun - ECPv6.15.20//NONSGML v1.0//EN
CALSCALE:GREGORIAN
METHOD:PUBLISH
X-ORIGINAL-URL:https://recoverycafeaz.org
X-WR-CALDESC:Events for Recovery Café Valley of the Sun
REFRESH-INTERVAL;VALUE=DURATION:PT1H
X-Robots-Tag:noindex
X-PUBLISHED-TTL:PT1H
BEGIN:VTIMEZONE
TZID:America/Phoenix
BEGIN:STANDARD
TZOFFSETFROM:-0700
TZOFFSETTO:-0700
TZNAME:MST
DTSTART:20250101T000000
END:STANDARD
END:VTIMEZONE
BEGIN:VEVENT
DTSTART;TZID=America/Phoenix:20260221T090000
DTEND;TZID=America/Phoenix:20260221T090000
DTSTAMP:20260420T123301
CREATED:20251202T172035Z
LAST-MODIFIED:20260205T110537Z
UID:3072-1771664400-1771664400@recoverycafeaz.org
SUMMARY:Breakfast
DESCRIPTION:
URL:https://recoverycafeaz.org/event/breakfast-58/
END:VEVENT
BEGIN:VEVENT
DTSTART;TZID=America/Phoenix:20260221T100000
DTEND;TZID=America/Phoenix:20260221T223000
DTSTAMP:20260420T123301
CREATED:20250923T191841Z
LAST-MODIFIED:20260205T110107Z
UID:2892-1771668000-1771713000@recoverycafeaz.org
SUMMARY:La Sua Speranza – A Group Meditation
DESCRIPTION:“I meditate so that my mind cannot complicate my life” – Sri Chinmoy. This quote rings true to what meditation can do to help uncomplicate your life. Meditation can also reduce stress and anxiety while bringing your focus to the present rather than constantly worrying about the past or what’s going to happen in the future. Come join us and experience what meditation can do for you.
URL:https://recoverycafeaz.org/event/la-sua-speranza-a-group-meditation-57/
END:VEVENT
BEGIN:VEVENT
DTSTART;TZID=America/Phoenix:20260221T110000
DTEND;TZID=America/Phoenix:20260221T120000
DTSTAMP:20260420T123301
CREATED:20251202T173137Z
LAST-MODIFIED:20260205T110437Z
UID:3085-1771671600-1771675200@recoverycafeaz.org
SUMMARY:Circle
DESCRIPTION:
URL:https://recoverycafeaz.org/event/circle-97/
END:VEVENT
BEGIN:VEVENT
DTSTART;TZID=America/Phoenix:20260221T120000
DTEND;TZID=America/Phoenix:20260221T123000
DTSTAMP:20260420T123301
CREATED:20251202T174738Z
LAST-MODIFIED:20260205T110344Z
UID:3115-1771675200-1771677000@recoverycafeaz.org
SUMMARY:Lunch
DESCRIPTION:
URL:https://recoverycafeaz.org/event/lunch-60/
END:VEVENT
BEGIN:VEVENT
DTSTART;TZID=America/Phoenix:20260221T123000
DTEND;TZID=America/Phoenix:20260221T123000
DTSTAMP:20260420T123301
CREATED:20260219T211618Z
LAST-MODIFIED:20260219T211618Z
UID:3153-1771677000-1771677000@recoverycafeaz.org
SUMMARY:Class
DESCRIPTION:
URL:https://recoverycafeaz.org/event/class-7/
END:VEVENT
END:VCALENDAR