BEGIN:VCALENDAR
VERSION:2.0
PRODID:-//Recovery Café Valley of the Sun - ECPv6.15.20//NONSGML v1.0//EN
CALSCALE:GREGORIAN
METHOD:PUBLISH
X-WR-CALNAME:Recovery Café Valley of the Sun
X-ORIGINAL-URL:https://recoverycafeaz.org
X-WR-CALDESC:Events for Recovery Café Valley of the Sun
REFRESH-INTERVAL;VALUE=DURATION:PT1H
X-Robots-Tag:noindex
X-PUBLISHED-TTL:PT1H
BEGIN:VTIMEZONE
TZID:America/Phoenix
BEGIN:STANDARD
TZOFFSETFROM:-0700
TZOFFSETTO:-0700
TZNAME:MST
DTSTART:20250101T000000
END:STANDARD
END:VTIMEZONE
BEGIN:VEVENT
DTSTART;TZID=America/Phoenix:20260418T090000
DTEND;TZID=America/Phoenix:20260418T090000
DTSTAMP:20260425T100330
CREATED:20260403T115952Z
LAST-MODIFIED:20260403T115952Z
UID:3304-1776502800-1776502800@recoverycafeaz.org
SUMMARY:Breakfast
DESCRIPTION:
URL:https://recoverycafeaz.org/event/breakfast-68/
END:VEVENT
BEGIN:VEVENT
DTSTART;TZID=America/Phoenix:20260418T100000
DTEND;TZID=America/Phoenix:20260418T103000
DTSTAMP:20260425T100330
CREATED:20260319T205004Z
LAST-MODIFIED:20260319T205004Z
UID:3266-1776506400-1776508200@recoverycafeaz.org
SUMMARY:La Sua Speranza – A Group Meditation
DESCRIPTION:“I MEDITATE SO THAT MY MIND CANNOT COMPLICATE MY LIFE” – SRI CHINMOY. THIS QUOTE RINGS TRUE TO WHAT MEDITATION CAN DO TO HELP UNCOMPLICATE YOUR LIFE. MEDITATION CAN ALSO REDUCE STRESS AND ANXIETY WHILE BRINGING YOUR FOCUS TO THE PRESENT RATHER THAN CONSTANTLY WORRYING ABOUT THE PAST OR WHAT’S GOING TO HAPPEN IN THE FUTURE. COME JOIN US AND EXPERIENCE WHAT MEDITATION CAN DO FOR YOU.
URL:https://recoverycafeaz.org/event/la-sua-speranza-a-group-meditation-78/
END:VEVENT
BEGIN:VEVENT
DTSTART;TZID=America/Phoenix:20260418T110000
DTEND;TZID=America/Phoenix:20260418T120000
DTSTAMP:20260425T100330
CREATED:20260403T115323Z
LAST-MODIFIED:20260403T115323Z
UID:3285-1776510000-1776513600@recoverycafeaz.org
SUMMARY:Circle
DESCRIPTION:
URL:https://recoverycafeaz.org/event/circle-104/
END:VEVENT
BEGIN:VEVENT
DTSTART;TZID=America/Phoenix:20260418T120000
DTEND;TZID=America/Phoenix:20260418T123000
DTSTAMP:20260425T100330
CREATED:20260403T115744Z
LAST-MODIFIED:20260403T115744Z
UID:3295-1776513600-1776515400@recoverycafeaz.org
SUMMARY:Lunch
DESCRIPTION:
URL:https://recoverycafeaz.org/event/lunch-66/
END:VEVENT
BEGIN:VEVENT
DTSTART;TZID=America/Phoenix:20260418T123000
DTEND;TZID=America/Phoenix:20260418T123000
DTSTAMP:20260425T100330
CREATED:20260403T120259Z
LAST-MODIFIED:20260403T120259Z
UID:3311-1776515400-1776515400@recoverycafeaz.org
SUMMARY:Class
DESCRIPTION:
URL:https://recoverycafeaz.org/event/class-10/
END:VEVENT
BEGIN:VEVENT
DTSTART;TZID=America/Phoenix:20260425T090000
DTEND;TZID=America/Phoenix:20260425T090000
DTSTAMP:20260425T100330
CREATED:20260403T115915Z
LAST-MODIFIED:20260403T115915Z
UID:3301-1777107600-1777107600@recoverycafeaz.org
SUMMARY:Breakfast
DESCRIPTION:
URL:https://recoverycafeaz.org/event/breakfast-67/
END:VEVENT
BEGIN:VEVENT
DTSTART;TZID=America/Phoenix:20260425T100000
DTEND;TZID=America/Phoenix:20260425T103000
DTSTAMP:20260425T100330
CREATED:20260319T205140Z
LAST-MODIFIED:20260319T205140Z
UID:3269-1777111200-1777113000@recoverycafeaz.org
SUMMARY:La Sua Speranza – A Group Meditation
DESCRIPTION:I MEDITATE SO THAT MY MIND CANNOT COMPLICATE MY LIFE” – SRI CHINMOY. THIS QUOTE RINGS TRUE TO WHAT MEDITATION CAN DO TO HELP UNCOMPLICATE YOUR LIFE. MEDITATION CAN ALSO REDUCE STRESS AND ANXIETY WHILE BRINGING YOUR FOCUS TO THE PRESENT RATHER THAN CONSTANTLY WORRYING ABOUT THE PAST OR WHAT’S GOING TO HAPPEN IN THE FUTURE. COME JOIN US AND EXPERIENCE WHAT MEDITATION CAN DO FOR YOU.
URL:https://recoverycafeaz.org/event/la-sua-speranza-a-group-meditation-79/
END:VEVENT
BEGIN:VEVENT
DTSTART;TZID=America/Phoenix:20260425T110000
DTEND;TZID=America/Phoenix:20260425T120000
DTSTAMP:20260425T100330
CREATED:20260403T115430Z
LAST-MODIFIED:20260403T115430Z
UID:3287-1777114800-1777118400@recoverycafeaz.org
SUMMARY:Circle
DESCRIPTION:
URL:https://recoverycafeaz.org/event/circle-105/
END:VEVENT
BEGIN:VEVENT
DTSTART;TZID=America/Phoenix:20260425T120000
DTEND;TZID=America/Phoenix:20260425T123000
DTSTAMP:20260425T100330
CREATED:20260403T115834Z
LAST-MODIFIED:20260403T115834Z
UID:3299-1777118400-1777120200@recoverycafeaz.org
SUMMARY:Lunch
DESCRIPTION:
URL:https://recoverycafeaz.org/event/lunch-69/
END:VEVENT
BEGIN:VEVENT
DTSTART;TZID=America/Phoenix:20260425T123000
DTEND;TZID=America/Phoenix:20260425T123000
DTSTAMP:20260425T100330
CREATED:20260403T120341Z
LAST-MODIFIED:20260403T120341Z
UID:3316-1777120200-1777120200@recoverycafeaz.org
SUMMARY:Class
DESCRIPTION:
URL:https://recoverycafeaz.org/event/class-11/
END:VEVENT
BEGIN:VEVENT
DTSTART;TZID=America/Phoenix:20260502T090000
DTEND;TZID=America/Phoenix:20260502T170000
DTSTAMP:20260425T100330
CREATED:20260425T163841Z
LAST-MODIFIED:20260425T164133Z
UID:3319-1777712400-1777741200@recoverycafeaz.org
SUMMARY:Closed
DESCRIPTION:
URL:https://recoverycafeaz.org/event/closed-27/
END:VEVENT
BEGIN:VEVENT
DTSTART;TZID=America/Phoenix:20260509T100000
DTEND;TZID=America/Phoenix:20260509T103000
DTSTAMP:20260425T100330
CREATED:20260319T204207Z
LAST-MODIFIED:20260425T164316Z
UID:3262-1778320800-1778322600@recoverycafeaz.org
SUMMARY:La Sua Speranza – A Group Meditation
DESCRIPTION:“I MEDITATE SO THAT MY MIND CANNOT COMPLICATE MY LIFE” – SRI CHINMOY. THIS QUOTE RINGS TRUE TO WHAT MEDITATION CAN DO TO HELP UNCOMPLICATE YOUR LIFE. MEDITATION CAN ALSO REDUCE STRESS AND ANXIETY WHILE BRINGING YOUR FOCUS TO THE PRESENT RATHER THAN CONSTANTLY WORRYING ABOUT THE PAST OR WHAT’S GOING TO HAPPEN IN THE FUTURE. COME JOIN US AND EXPERIENCE WHAT MEDITATION CAN DO FOR YOU.
URL:https://recoverycafeaz.org/event/la-sua-speranza-a-group-meditation-76/
END:VEVENT
BEGIN:VEVENT
DTSTART;TZID=America/Phoenix:20260516T100000
DTEND;TZID=America/Phoenix:20260516T223000
DTSTAMP:20260425T100330
CREATED:20260425T164711Z
LAST-MODIFIED:20260425T164711Z
UID:3321-1778925600-1778970600@recoverycafeaz.org
SUMMARY:La Sua Speranza – A Group Meditation
DESCRIPTION:“I MEDITATE SO THAT MY MIND CANNOT COMPLICATE MY LIFE” – SRI CHINMOY. THIS QUOTE RINGS TRUE TO WHAT MEDITATION CAN DO TO HELP UNCOMPLICATE YOUR LIFE. MEDITATION CAN ALSO REDUCE STRESS AND ANXIETY WHILE BRINGING YOUR FOCUS TO THE PRESENT RATHER THAN CONSTANTLY WORRYING ABOUT THE PAST OR WHAT’S GOING TO HAPPEN IN THE FUTURE. COME JOIN US AND EXPERIENCE WHAT MEDITATION CAN DO FOR YOU.
URL:https://recoverycafeaz.org/event/la-sua-speranza-a-group-meditation-80/
END:VEVENT
BEGIN:VEVENT
DTSTART;TZID=America/Phoenix:20260523T100000
DTEND;TZID=America/Phoenix:20260523T103000
DTSTAMP:20260425T100330
CREATED:20260425T165108Z
LAST-MODIFIED:20260425T165108Z
UID:3324-1779530400-1779532200@recoverycafeaz.org
SUMMARY:La Sua Speranza – A Group Meditation
DESCRIPTION:“I MEDITATE SO THAT MY MIND CANNOT COMPLICATE MY LIFE” – SRI CHINMOY. THIS QUOTE RINGS TRUE TO WHAT MEDITATION CAN DO TO HELP UNCOMPLICATE YOUR LIFE. MEDITATION CAN ALSO REDUCE STRESS AND ANXIETY WHILE BRINGING YOUR FOCUS TO THE PRESENT RATHER THAN CONSTANTLY WORRYING ABOUT THE PAST OR WHAT’S GOING TO HAPPEN IN THE FUTURE. COME JOIN US AND EXPERIENCE WHAT MEDITATION CAN DO FOR YOU.
URL:https://recoverycafeaz.org/event/la-sua-speranza-a-group-meditation-81/
END:VEVENT
BEGIN:VEVENT
DTSTART;TZID=America/Phoenix:20260530T100000
DTEND;TZID=America/Phoenix:20260530T103000
DTSTAMP:20260425T100330
CREATED:20260425T165251Z
LAST-MODIFIED:20260425T165553Z
UID:3328-1780135200-1780137000@recoverycafeaz.org
SUMMARY:La Sua Speranza – A Group Meditation
DESCRIPTION:“I MEDITATE SO THAT MY MIND CANNOT COMPLICATE MY LIFE” – SRI CHINMOY. THIS QUOTE RINGS TRUE TO WHAT MEDITATION CAN DO TO HELP UNCOMPLICATE YOUR LIFE. MEDITATION CAN ALSO REDUCE STRESS AND ANXIETY WHILE BRINGING YOUR FOCUS TO THE PRESENT RATHER THAN CONSTANTLY WORRYING ABOUT THE PAST OR WHAT’S GOING TO HAPPEN IN THE FUTURE. COME JOIN US AND EXPERIENCE WHAT MEDITATION CAN DO FOR YOU.
URL:https://recoverycafeaz.org/event/la-sua-speranza-a-group-meditation-82/
END:VEVENT
BEGIN:VEVENT
DTSTART;TZID=America/Phoenix:20260606T100000
DTEND;TZID=America/Phoenix:20260606T103000
DTSTAMP:20260425T100330
CREATED:20260425T170210Z
LAST-MODIFIED:20260425T170241Z
UID:3331-1780740000-1780741800@recoverycafeaz.org
SUMMARY:La Sua Speranza – A Group Meditation
DESCRIPTION:La Sua Speranza – A Group Meditation\n\n\n\n\n\n“I MEDITATE SO THAT MY MIND CANNOT COMPLICATE MY LIFE” – SRI CHINMOY. THIS QUOTE RINGS TRUE TO WHAT MEDITATION CAN DO TO HELP UNCOMPLICATE YOUR LIFE. MEDITATION CAN ALSO REDUCE STRESS AND ANXIETY WHILE BRINGING YOUR FOCUS TO THE PRESENT RATHER THAN CONSTANTLY WORRYING ABOUT THE PAST OR WHAT’S GOING TO HAPPEN IN THE FUTURE. COME JOIN US AND EXPERIENCE WHAT MEDITATION CAN DO FOR YOU.
URL:https://recoverycafeaz.org/event/la-sua-speranza-a-group-meditation-83/
END:VEVENT
END:VCALENDAR