BEGIN:VCALENDAR
VERSION:2.0
PRODID:-//Recovery Café Valley of the Sun - ECPv6.15.20//NONSGML v1.0//EN
CALSCALE:GREGORIAN
METHOD:PUBLISH
X-WR-CALNAME:Recovery Café Valley of the Sun
X-ORIGINAL-URL:https://recoverycafeaz.org
X-WR-CALDESC:Events for Recovery Café Valley of the Sun
REFRESH-INTERVAL;VALUE=DURATION:PT1H
X-Robots-Tag:noindex
X-PUBLISHED-TTL:PT1H
BEGIN:VTIMEZONE
TZID:America/Phoenix
BEGIN:STANDARD
TZOFFSETFROM:-0700
TZOFFSETTO:-0700
TZNAME:MST
DTSTART:20250101T000000
END:STANDARD
END:VTIMEZONE
BEGIN:VEVENT
DTSTART;TZID=America/Phoenix:20260627T120000
DTEND;TZID=America/Phoenix:20260627T123000
DTSTAMP:20260425T182645
CREATED:20260425T185344Z
LAST-MODIFIED:20260425T185344Z
UID:3461-1782561600-1782563400@recoverycafeaz.org
SUMMARY:Lunch
DESCRIPTION:
URL:https://recoverycafeaz.org/event/lunch-77/
END:VEVENT
BEGIN:VEVENT
DTSTART;TZID=America/Phoenix:20260627T123000
DTEND;TZID=America/Phoenix:20260627T123000
DTSTAMP:20260425T182645
CREATED:20260425T185445Z
LAST-MODIFIED:20260425T185445Z
UID:3463-1782563400-1782563400@recoverycafeaz.org
SUMMARY:Class
DESCRIPTION:
URL:https://recoverycafeaz.org/event/class-20/
END:VEVENT
END:VCALENDAR