BEGIN:VCALENDAR
VERSION:2.0
PRODID:-//Recovery Café Valley of the Sun - ECPv6.15.20//NONSGML v1.0//EN
CALSCALE:GREGORIAN
METHOD:PUBLISH
X-ORIGINAL-URL:https://recoverycafeaz.org
X-WR-CALDESC:Events for Recovery Café Valley of the Sun
REFRESH-INTERVAL;VALUE=DURATION:PT1H
X-Robots-Tag:noindex
X-PUBLISHED-TTL:PT1H
BEGIN:VTIMEZONE
TZID:America/Phoenix
BEGIN:STANDARD
TZOFFSETFROM:-0700
TZOFFSETTO:-0700
TZNAME:MST
DTSTART:20250101T000000
END:STANDARD
END:VTIMEZONE
BEGIN:VEVENT
DTSTART;TZID=America/Phoenix:20260509T100000
DTEND;TZID=America/Phoenix:20260509T103000
DTSTAMP:20260425T113719
CREATED:20260319T204207Z
LAST-MODIFIED:20260425T164316Z
UID:3262-1778320800-1778322600@recoverycafeaz.org
SUMMARY:La Sua Speranza – A Group Meditation
DESCRIPTION:“I MEDITATE SO THAT MY MIND CANNOT COMPLICATE MY LIFE” – SRI CHINMOY. THIS QUOTE RINGS TRUE TO WHAT MEDITATION CAN DO TO HELP UNCOMPLICATE YOUR LIFE. MEDITATION CAN ALSO REDUCE STRESS AND ANXIETY WHILE BRINGING YOUR FOCUS TO THE PRESENT RATHER THAN CONSTANTLY WORRYING ABOUT THE PAST OR WHAT’S GOING TO HAPPEN IN THE FUTURE. COME JOIN US AND EXPERIENCE WHAT MEDITATION CAN DO FOR YOU.
URL:https://recoverycafeaz.org/event/la-sua-speranza-a-group-meditation-76/
END:VEVENT
BEGIN:VEVENT
DTSTART;TZID=America/Phoenix:20260509T110000
DTEND;TZID=America/Phoenix:20260509T120000
DTSTAMP:20260425T113719
CREATED:20260425T170911Z
LAST-MODIFIED:20260425T170911Z
UID:3347-1778324400-1778328000@recoverycafeaz.org
SUMMARY:Circle
DESCRIPTION:
URL:https://recoverycafeaz.org/event/circle-106/
END:VEVENT
BEGIN:VEVENT
DTSTART;TZID=America/Phoenix:20260509T120000
DTEND;TZID=America/Phoenix:20260509T123000
DTSTAMP:20260425T113719
CREATED:20260425T171013Z
LAST-MODIFIED:20260425T171013Z
UID:3359-1778328000-1778329800@recoverycafeaz.org
SUMMARY:Lunch
DESCRIPTION:
URL:https://recoverycafeaz.org/event/lunch-70/
END:VEVENT
BEGIN:VEVENT
DTSTART;TZID=America/Phoenix:20260509T123000
DTEND;TZID=America/Phoenix:20260509T123000
DTSTAMP:20260425T113719
CREATED:20260425T171106Z
LAST-MODIFIED:20260425T171106Z
UID:3363-1778329800-1778329800@recoverycafeaz.org
SUMMARY:Class
DESCRIPTION:
URL:https://recoverycafeaz.org/event/class-12/
END:VEVENT
BEGIN:VEVENT
DTSTART;TZID=America/Phoenix:20260516T090000
DTEND;TZID=America/Phoenix:20260516T090000
DTSTAMP:20260425T113719
CREATED:20260425T171243Z
LAST-MODIFIED:20260425T171243Z
UID:3366-1778922000-1778922000@recoverycafeaz.org
SUMMARY:Breakfast
DESCRIPTION:
URL:https://recoverycafeaz.org/event/breakfast-70/
END:VEVENT
BEGIN:VEVENT
DTSTART;TZID=America/Phoenix:20260516T100000
DTEND;TZID=America/Phoenix:20260516T223000
DTSTAMP:20260425T113719
CREATED:20260425T164711Z
LAST-MODIFIED:20260425T164711Z
UID:3321-1778925600-1778970600@recoverycafeaz.org
SUMMARY:La Sua Speranza – A Group Meditation
DESCRIPTION:“I MEDITATE SO THAT MY MIND CANNOT COMPLICATE MY LIFE” – SRI CHINMOY. THIS QUOTE RINGS TRUE TO WHAT MEDITATION CAN DO TO HELP UNCOMPLICATE YOUR LIFE. MEDITATION CAN ALSO REDUCE STRESS AND ANXIETY WHILE BRINGING YOUR FOCUS TO THE PRESENT RATHER THAN CONSTANTLY WORRYING ABOUT THE PAST OR WHAT’S GOING TO HAPPEN IN THE FUTURE. COME JOIN US AND EXPERIENCE WHAT MEDITATION CAN DO FOR YOU.
URL:https://recoverycafeaz.org/event/la-sua-speranza-a-group-meditation-80/
END:VEVENT
BEGIN:VEVENT
DTSTART;TZID=America/Phoenix:20260516T110000
DTEND;TZID=America/Phoenix:20260516T120000
DTSTAMP:20260425T113719
CREATED:20260425T171341Z
LAST-MODIFIED:20260425T171341Z
UID:3370-1778929200-1778932800@recoverycafeaz.org
SUMMARY:Circle
DESCRIPTION:
URL:https://recoverycafeaz.org/event/circle-107/
END:VEVENT
BEGIN:VEVENT
DTSTART;TZID=America/Phoenix:20260516T120000
DTEND;TZID=America/Phoenix:20260516T123000
DTSTAMP:20260425T113719
CREATED:20260425T171437Z
LAST-MODIFIED:20260425T171437Z
UID:3372-1778932800-1778934600@recoverycafeaz.org
SUMMARY:Lunch
DESCRIPTION:
URL:https://recoverycafeaz.org/event/lunch-71/
END:VEVENT
BEGIN:VEVENT
DTSTART;TZID=America/Phoenix:20260516T123000
DTEND;TZID=America/Phoenix:20260516T123000
DTSTAMP:20260425T113719
CREATED:20260425T171527Z
LAST-MODIFIED:20260425T171527Z
UID:3377-1778934600-1778934600@recoverycafeaz.org
SUMMARY:Class
DESCRIPTION:
URL:https://recoverycafeaz.org/event/class-13/
END:VEVENT
BEGIN:VEVENT
DTSTART;TZID=America/Phoenix:20260523T090000
DTEND;TZID=America/Phoenix:20260523T090000
DTSTAMP:20260425T113719
CREATED:20260425T171656Z
LAST-MODIFIED:20260425T171656Z
UID:3379-1779526800-1779526800@recoverycafeaz.org
SUMMARY:Breakfast
DESCRIPTION:
URL:https://recoverycafeaz.org/event/breakfast-71/
END:VEVENT
BEGIN:VEVENT
DTSTART;TZID=America/Phoenix:20260523T100000
DTEND;TZID=America/Phoenix:20260523T103000
DTSTAMP:20260425T113719
CREATED:20260425T165108Z
LAST-MODIFIED:20260425T165108Z
UID:3324-1779530400-1779532200@recoverycafeaz.org
SUMMARY:La Sua Speranza – A Group Meditation
DESCRIPTION:“I MEDITATE SO THAT MY MIND CANNOT COMPLICATE MY LIFE” – SRI CHINMOY. THIS QUOTE RINGS TRUE TO WHAT MEDITATION CAN DO TO HELP UNCOMPLICATE YOUR LIFE. MEDITATION CAN ALSO REDUCE STRESS AND ANXIETY WHILE BRINGING YOUR FOCUS TO THE PRESENT RATHER THAN CONSTANTLY WORRYING ABOUT THE PAST OR WHAT’S GOING TO HAPPEN IN THE FUTURE. COME JOIN US AND EXPERIENCE WHAT MEDITATION CAN DO FOR YOU.
URL:https://recoverycafeaz.org/event/la-sua-speranza-a-group-meditation-81/
END:VEVENT
BEGIN:VEVENT
DTSTART;TZID=America/Phoenix:20260523T110000
DTEND;TZID=America/Phoenix:20260523T120000
DTSTAMP:20260425T113719
CREATED:20260425T171817Z
LAST-MODIFIED:20260425T171817Z
UID:3382-1779534000-1779537600@recoverycafeaz.org
SUMMARY:Circle
DESCRIPTION:
URL:https://recoverycafeaz.org/event/circle-108/
END:VEVENT
BEGIN:VEVENT
DTSTART;TZID=America/Phoenix:20260523T120000
DTEND;TZID=America/Phoenix:20260523T123000
DTSTAMP:20260425T113719
CREATED:20260425T172300Z
LAST-MODIFIED:20260425T172300Z
UID:3390-1779537600-1779539400@recoverycafeaz.org
SUMMARY:Lunch
DESCRIPTION:
URL:https://recoverycafeaz.org/event/lunch-73/
END:VEVENT
BEGIN:VEVENT
DTSTART;TZID=America/Phoenix:20260530T090000
DTEND;TZID=America/Phoenix:20260530T090000
DTSTAMP:20260425T113719
CREATED:20260425T173114Z
LAST-MODIFIED:20260425T173440Z
UID:3396-1780131600-1780131600@recoverycafeaz.org
SUMMARY:Breakfast
DESCRIPTION:
URL:https://recoverycafeaz.org/event/class-16/
END:VEVENT
BEGIN:VEVENT
DTSTART;TZID=America/Phoenix:20260530T100000
DTEND;TZID=America/Phoenix:20260530T103000
DTSTAMP:20260425T113719
CREATED:20260425T165251Z
LAST-MODIFIED:20260425T165553Z
UID:3328-1780135200-1780137000@recoverycafeaz.org
SUMMARY:La Sua Speranza – A Group Meditation
DESCRIPTION:“I MEDITATE SO THAT MY MIND CANNOT COMPLICATE MY LIFE” – SRI CHINMOY. THIS QUOTE RINGS TRUE TO WHAT MEDITATION CAN DO TO HELP UNCOMPLICATE YOUR LIFE. MEDITATION CAN ALSO REDUCE STRESS AND ANXIETY WHILE BRINGING YOUR FOCUS TO THE PRESENT RATHER THAN CONSTANTLY WORRYING ABOUT THE PAST OR WHAT’S GOING TO HAPPEN IN THE FUTURE. COME JOIN US AND EXPERIENCE WHAT MEDITATION CAN DO FOR YOU.
URL:https://recoverycafeaz.org/event/la-sua-speranza-a-group-meditation-82/
END:VEVENT
BEGIN:VEVENT
DTSTART;TZID=America/Phoenix:20260530T110000
DTEND;TZID=America/Phoenix:20260530T120000
DTSTAMP:20260425T113719
CREATED:20260425T172919Z
LAST-MODIFIED:20260425T173619Z
UID:3393-1780138800-1780142400@recoverycafeaz.org
SUMMARY:Circle
DESCRIPTION:
URL:https://recoverycafeaz.org/event/class-15/
END:VEVENT
BEGIN:VEVENT
DTSTART;TZID=America/Phoenix:20260530T120000
DTEND;TZID=America/Phoenix:20260530T123000
DTSTAMP:20260425T113719
CREATED:20260425T171904Z
LAST-MODIFIED:20260425T171904Z
UID:3385-1780142400-1780144200@recoverycafeaz.org
SUMMARY:Lunch
DESCRIPTION:
URL:https://recoverycafeaz.org/event/lunch-72/
END:VEVENT
BEGIN:VEVENT
DTSTART;TZID=America/Phoenix:20260530T123000
DTEND;TZID=America/Phoenix:20260530T123000
DTSTAMP:20260425T113719
CREATED:20260425T171943Z
LAST-MODIFIED:20260425T171943Z
UID:3388-1780144200-1780144200@recoverycafeaz.org
SUMMARY:Class
DESCRIPTION:
URL:https://recoverycafeaz.org/event/class-14/
END:VEVENT
BEGIN:VEVENT
DTSTART;TZID=America/Phoenix:20260606T090000
DTEND;TZID=America/Phoenix:20260606T090000
DTSTAMP:20260425T113719
CREATED:20260425T173725Z
LAST-MODIFIED:20260425T173725Z
UID:3401-1780736400-1780736400@recoverycafeaz.org
SUMMARY:Breakfast
DESCRIPTION:
URL:https://recoverycafeaz.org/event/breakfast-72/
END:VEVENT
BEGIN:VEVENT
DTSTART;TZID=America/Phoenix:20260606T100000
DTEND;TZID=America/Phoenix:20260606T103000
DTSTAMP:20260425T113719
CREATED:20260425T170210Z
LAST-MODIFIED:20260425T180607Z
UID:3331-1780740000-1780741800@recoverycafeaz.org
SUMMARY:La Sua Speranza – A Group Meditation
DESCRIPTION:“I MEDITATE SO THAT MY MIND CANNOT COMPLICATE MY LIFE” – SRI CHINMOY. THIS QUOTE RINGS TRUE TO WHAT MEDITATION CAN DO TO HELP UNCOMPLICATE YOUR LIFE. MEDITATION CAN ALSO REDUCE STRESS AND ANXIETY WHILE BRINGING YOUR FOCUS TO THE PRESENT RATHER THAN CONSTANTLY WORRYING ABOUT THE PAST OR WHAT’S GOING TO HAPPEN IN THE FUTURE. COME JOIN US AND EXPERIENCE WHAT MEDITATION CAN DO FOR YOU.
URL:https://recoverycafeaz.org/event/la-sua-speranza-a-group-meditation-83/
END:VEVENT
BEGIN:VEVENT
DTSTART;TZID=America/Phoenix:20260606T110000
DTEND;TZID=America/Phoenix:20260606T120000
DTSTAMP:20260425T113719
CREATED:20260425T173813Z
LAST-MODIFIED:20260425T173813Z
UID:3407-1780743600-1780747200@recoverycafeaz.org
SUMMARY:Circle
DESCRIPTION:
URL:https://recoverycafeaz.org/event/circle-109/
END:VEVENT
BEGIN:VEVENT
DTSTART;TZID=America/Phoenix:20260606T120000
DTEND;TZID=America/Phoenix:20260606T123000
DTSTAMP:20260425T113719
CREATED:20260425T173920Z
LAST-MODIFIED:20260425T173920Z
UID:3413-1780747200-1780749000@recoverycafeaz.org
SUMMARY:Lunch
DESCRIPTION:
URL:https://recoverycafeaz.org/event/lunch-74/
END:VEVENT
BEGIN:VEVENT
DTSTART;TZID=America/Phoenix:20260606T123000
DTEND;TZID=America/Phoenix:20260606T123000
DTSTAMP:20260425T113719
CREATED:20260425T174014Z
LAST-MODIFIED:20260425T174014Z
UID:3417-1780749000-1780749000@recoverycafeaz.org
SUMMARY:Class
DESCRIPTION:
URL:https://recoverycafeaz.org/event/class-17/
END:VEVENT
BEGIN:VEVENT
DTSTART;TZID=America/Phoenix:20260613T090000
DTEND;TZID=America/Phoenix:20260613T090000
DTSTAMP:20260425T113719
CREATED:20260425T183404Z
LAST-MODIFIED:20260425T183404Z
UID:3431-1781341200-1781341200@recoverycafeaz.org
SUMMARY:Breakfast
DESCRIPTION:
URL:https://recoverycafeaz.org/event/breakfast-73/
END:VEVENT
BEGIN:VEVENT
DTSTART;TZID=America/Phoenix:20260613T100000
DTEND;TZID=America/Phoenix:20260613T103000
DTSTAMP:20260425T113719
CREATED:20260425T183243Z
LAST-MODIFIED:20260425T183318Z
UID:3423-1781344800-1781346600@recoverycafeaz.org
SUMMARY:La Sua Speranza – A Group Meditation
DESCRIPTION:“I MEDITATE SO THAT MY MIND CANNOT COMPLICATE MY LIFE” – SRI CHINMOY. THIS QUOTE RINGS TRUE TO WHAT MEDITATION CAN DO TO HELP UNCOMPLICATE YOUR LIFE. MEDITATION CAN ALSO REDUCE STRESS AND ANXIETY WHILE BRINGING YOUR FOCUS TO THE PRESENT RATHER THAN CONSTANTLY WORRYING ABOUT THE PAST OR WHAT’S GOING TO HAPPEN IN THE FUTURE. COME JOIN US AND EXPERIENCE WHAT MEDITATION CAN DO FOR YOU.
URL:https://recoverycafeaz.org/event/la-suala-sua-speranza-a-group-meditation/
END:VEVENT
BEGIN:VEVENT
DTSTART;TZID=America/Phoenix:20260613T110000
DTEND;TZID=America/Phoenix:20260613T120000
DTSTAMP:20260425T113719
CREATED:20260425T183455Z
LAST-MODIFIED:20260425T183455Z
UID:3434-1781348400-1781352000@recoverycafeaz.org
SUMMARY:Circle
DESCRIPTION:
URL:https://recoverycafeaz.org/event/circle-110/
END:VEVENT
BEGIN:VEVENT
DTSTART;TZID=America/Phoenix:20260613T120000
DTEND;TZID=America/Phoenix:20260613T123000
DTSTAMP:20260425T113719
CREATED:20260425T183536Z
LAST-MODIFIED:20260425T183536Z
UID:3437-1781352000-1781353800@recoverycafeaz.org
SUMMARY:Lunch
DESCRIPTION:
URL:https://recoverycafeaz.org/event/lunch-75/
END:VEVENT
BEGIN:VEVENT
DTSTART;TZID=America/Phoenix:20260613T123000
DTEND;TZID=America/Phoenix:20260613T123000
DTSTAMP:20260425T113719
CREATED:20260425T183613Z
LAST-MODIFIED:20260425T183613Z
UID:3439-1781353800-1781353800@recoverycafeaz.org
SUMMARY:Class
DESCRIPTION:
URL:https://recoverycafeaz.org/event/class-18/
END:VEVENT
BEGIN:VEVENT
DTSTART;TZID=America/Phoenix:20260620T090000
DTEND;TZID=America/Phoenix:20260620T090000
DTSTAMP:20260425T113719
CREATED:20260425T183652Z
LAST-MODIFIED:20260425T183652Z
UID:3442-1781946000-1781946000@recoverycafeaz.org
SUMMARY:Breakfast
DESCRIPTION:
URL:https://recoverycafeaz.org/event/breakfast-74/
END:VEVENT
BEGIN:VEVENT
DTSTART;TZID=America/Phoenix:20260620T100000
DTEND;TZID=America/Phoenix:20260620T103000
DTSTAMP:20260425T113719
CREATED:20260425T170452Z
LAST-MODIFIED:20260425T180507Z
UID:3336-1781949600-1781951400@recoverycafeaz.org
SUMMARY:La Sua Speranza – A Group Meditation
DESCRIPTION:  \n\n\n\n\n\n“I MEDITATE SO THAT MY MIND CANNOT COMPLICATE MY LIFE” – SRI CHINMOY. THIS QUOTE RINGS TRUE TO WHAT MEDITATION CAN DO TO HELP UNCOMPLICATE YOUR LIFE. MEDITATION CAN ALSO REDUCE STRESS AND ANXIETY WHILE BRINGING YOUR FOCUS TO THE PRESENT RATHER THAN CONSTANTLY WORRYING ABOUT THE PAST OR WHAT’S GOING TO HAPPEN IN THE FUTURE. COME JOIN US AND EXPERIENCE WHAT MEDITATION CAN DO FOR YOU.
URL:https://recoverycafeaz.org/event/la-sua-speranza-a-group-meditation-84/
END:VEVENT
END:VCALENDAR